BEGIN:VCALENDAR
VERSION:2.0
PRODID:-//유평교회 - ECPv4.6.14.1//NONSGML v1.0//EN
CALSCALE:GREGORIAN
METHOD:PUBLISH
X-WR-CALNAME:유평교회
X-ORIGINAL-URL:https://achurch.or.kr
X-WR-CALDESC:Events for 유평교회
BEGIN:VEVENT
DTSTART;TZID=Asia/Seoul:20240615T100000
DTEND;TZID=Asia/Seoul:20240615T123000
DTSTAMP:20260423T202929
CREATED:20240526T121408Z
LAST-MODIFIED:20240526T121438Z
UID:36530-1718445600-1718454600@achurch.or.kr
SUMMARY:실버학교
DESCRIPTION:오전 10시 30분 \n
URL:https://achurch.or.kr/?tribe_events=%ed%86%a0%ec%9a%94%ec%84%b1%ea%b2%bd%ed%95%99%ea%b5%90-9
CATEGORIES:실버부
ATTACH;FMTTYPE=image/jpeg:https://achurch.or.kr/wp-content/uploads/2023/04/silver.jpg
END:VEVENT
END:VCALENDAR