BEGIN:VCALENDAR
VERSION:2.0
PRODID:-//유평교회 - ECPv4.6.14.1//NONSGML v1.0//EN
CALSCALE:GREGORIAN
METHOD:PUBLISH
X-WR-CALNAME:유평교회
X-ORIGINAL-URL:https://achurch.or.kr
X-WR-CALDESC:Events for 유평교회
BEGIN:VEVENT
DTSTART;TZID=Asia/Seoul:20240427T100000
DTEND;TZID=Asia/Seoul:20240427T120000
DTSTAMP:20260424T172510
CREATED:20240325T065947Z
LAST-MODIFIED:20240325T065947Z
UID:36249-1714212000-1714219200@achurch.or.kr
SUMMARY:토요성경학교
DESCRIPTION:
URL:https://achurch.or.kr/?tribe_events=%ed%86%a0%ec%9a%94%ec%84%b1%ea%b2%bd%ed%95%99%ea%b5%90-3
CATEGORIES:성경공부
ATTACH;FMTTYPE=image/jpeg:https://achurch.or.kr/wp-content/uploads/2024/03/biblestudy-sat.jpg
END:VEVENT
END:VCALENDAR