BEGIN:VCALENDAR
VERSION:2.0
PRODID:-//유평교회 - ECPv4.6.14.1//NONSGML v1.0//EN
CALSCALE:GREGORIAN
METHOD:PUBLISH
X-WR-CALNAME:유평교회
X-ORIGINAL-URL:https://achurch.or.kr
X-WR-CALDESC:Events for 유평교회
BEGIN:VEVENT
DTSTART;TZID=Asia/Seoul:20240503T190000
DTEND;TZID=Asia/Seoul:20240504T140000
DTSTAMP:20260424T081238
CREATED:20240428T120800Z
LAST-MODIFIED:20240428T121315Z
UID:36386-1714762800-1714831200@achurch.or.kr
SUMMARY:청년회MT
DESCRIPTION:3일(금) 저녁 7시 ~ 4일(토) 오후 2시 \n지음펜션: 경기 용인시 처인구 원삼면 두창호수로144번길 10 \n
URL:https://achurch.or.kr/?tribe_events=%ec%b2%ad%eb%85%84%ed%9a%8cmt-3
CATEGORIES:청년회
ATTACH;FMTTYPE=image/jpeg:https://achurch.or.kr/wp-content/uploads/2024/04/mosaqddb9O.jpeg
END:VEVENT
END:VCALENDAR