BEGIN:VCALENDAR
VERSION:2.0
PRODID:-//유평교회 - ECPv4.6.14.1//NONSGML v1.0//EN
CALSCALE:GREGORIAN
METHOD:PUBLISH
X-WR-CALNAME:유평교회
X-ORIGINAL-URL:https://achurch.or.kr
X-WR-CALDESC:Events for 유평교회
BEGIN:VEVENT
DTSTART;TZID=Asia/Seoul:20240608T180000
DTEND;TZID=Asia/Seoul:20240608T203000
DTSTAMP:20260423T153929
CREATED:20240526T121210Z
LAST-MODIFIED:20240604T015603Z
UID:36526-1717869600-1717878600@achurch.or.kr
SUMMARY:청년부 특별활동
DESCRIPTION:청년회 특별활동: 준하와 나 콘서트 참석 \n
URL:https://achurch.or.kr/?tribe_events=%ec%b2%ad%eb%85%84%ec%98%88%eb%b0%b0-18
CATEGORIES:청년회
ATTACH;FMTTYPE=image/jpeg:https://achurch.or.kr/wp-content/uploads/2024/05/KakaoTalk_Photo_2024-06-04-10-55-16.jpeg
END:VEVENT
END:VCALENDAR