BEGIN:VCALENDAR
VERSION:2.0
PRODID:-//유평교회 - ECPv4.6.14.1//NONSGML v1.0//EN
CALSCALE:GREGORIAN
METHOD:PUBLISH
X-WR-CALNAME:유평교회
X-ORIGINAL-URL:https://achurch.or.kr
X-WR-CALDESC:Events for 유평교회
BEGIN:VEVENT
DTSTART;TZID=Asia/Seoul:20240519T090000
DTEND;TZID=Asia/Seoul:20240519T123000
DTSTAMP:20260421T191916
CREATED:20240428T115951Z
LAST-MODIFIED:20240509T040657Z
UID:36371-1716109200-1716121800@achurch.or.kr
SUMMARY:주일예배
DESCRIPTION:\n1부 말씀 예배(9:00-10:00) 별관 2층\n\n말씀: “각 사람의 공적이 나타날 때”(고전 3:10-15) – 조정의\n\n\n\n\n\n만찬 예배(10:20-11:00) 본관 2층\n2부 말씀 예배(11:20-12:30) 본관 2층 – 주일학교(본관 1층)\n\n말씀: “각 사람의 공적이 나타날 때”(고전 3:10-15) – 조정의\n\n\n\n
URL:https://achurch.or.kr/?tribe_events=%ec%a3%bc%ec%9d%bc%ec%98%88%eb%b0%b0-296
CATEGORIES:정기 집회
ATTACH;FMTTYPE=image/jpeg:https://achurch.or.kr/wp-content/uploads/2024/02/IMG_1333.jpg
END:VEVENT
END:VCALENDAR