BEGIN:VCALENDAR
VERSION:2.0
PRODID:-//유평교회 - ECPv4.6.14.1//NONSGML v1.0//EN
CALSCALE:GREGORIAN
METHOD:PUBLISH
X-WR-CALNAME:유평교회
X-ORIGINAL-URL:https://achurch.or.kr
X-WR-CALDESC:Events for 유평교회
BEGIN:VEVENT
DTSTART;VALUE=DATE:20240415
DTEND;VALUE=DATE:20240419
DTSTAMP:20260424T234547
CREATED:20240325T061239Z
LAST-MODIFIED:20240415T004248Z
UID:36221-1713139200-1713484799@achurch.or.kr
SUMMARY:전국사역자수양회
DESCRIPTION: \n
URL:https://achurch.or.kr/?tribe_events=%ec%a0%84%ea%b5%ad%ec%82%ac%ec%97%ad%ec%9e%90%ec%88%98%ec%96%91%ed%9a%8c
CATEGORIES:ministry
END:VEVENT
END:VCALENDAR