BEGIN:VCALENDAR
VERSION:2.0
PRODID:-//유평교회 - ECPv4.6.14.1//NONSGML v1.0//EN
CALSCALE:GREGORIAN
METHOD:PUBLISH
X-WR-CALNAME:유평교회
X-ORIGINAL-URL:https://achurch.or.kr
X-WR-CALDESC:Events for 유평교회
BEGIN:VEVENT
DTSTART;TZID=Asia/Seoul:20240518T083000
DTEND;TZID=Asia/Seoul:20240518T170000
DTSTAMP:20260421T205013
CREATED:20240428T121214Z
LAST-MODIFIED:20240428T121214Z
UID:36395-1716021000-1716051600@achurch.or.kr
SUMMARY:실버부 소풍(제천)
DESCRIPTION:오전 8:30 ~ 오후 5시 \n
URL:https://achurch.or.kr/?tribe_events=%ec%8b%a4%eb%b2%84%eb%b6%80-%ec%86%8c%ed%92%8d%ec%a0%9c%ec%b2%9c
CATEGORIES:실버부
END:VEVENT
END:VCALENDAR